BEGIN:VCALENDAR
VERSION:2.0
PRODID:iCalendar-Evo
X-WR-TIMEZONE:US/Eastern
BEGIN:VEVENT
DTSTAMP:20260422THI4727Z
URL:https://www.wheelingwv.gov/events/95535/
DTSTART;TZID=US/Eastern:20260413T170000
SUMMARY:Planning Commission
DESCRIPTION:
LOCATION:City Council Chambers at 1500 Chapline Street, Room 103, Wheeling, West Virginia 26003
GEO:40.06400000001523;-80.72089999995724
UID:5597e812-057b-47e9-bd9c-fbb9f6f541c520260413T210000@www.wheelingwv.gov
END:VEVENT
END:VCALENDAR